BEGIN:VCALENDAR
VERSION:2.0
PRODID:-//hacksw/handcal//NONSGML v1.0//EN
BEGIN:VEVENT
DTSTART:20081021T190000
DTEND:20081021T220000
LOCATION:ISTEC \n12 rue Alexandre Parodi \n75010 PARIS
ORGANIZER;CN=Association des Diplômés  Réseau ISTEC:MAILTO:associationdesdiplomes@reseau-istec.fr
SUMMARY:InterClub Entrepreneurs et Oenologie : " Château Boston, une start-up viticole à Margaux "
DESCRIPTION:\nChers Diplômés,\nL’Association des Diplômés ISTEC est heureuse de vous convier à la prochaine soirée InterClub Entrepreneurs & Œnologie sur le thème :\n"Château Boston, une start-up viticole à...
URL:https://www.reseau-istec.fr/fr/event/interclub-entrepreneurs-et-oenologie-chateau-boston-une-start-up-viticole-a-margaux/2008/10/21/11
BEGIN:VALARM
TRIGGER:-P0DT1H0M0S
ACTION:DISPLAY
END:VALARM
END:VEVENT
END:VCALENDAR